BEGIN:VCALENDAR
VERSION:2.0
PRODID:-//https://soypuromexicano.mx///NONSGML kigkonsult.se iCalcreator 2.10.15//
METHOD:PUBLISH
BEGIN:VEVENT
UID:20260421T005200CST-0418JzNOWx@https://soypuromexicano.mx/
DTSTAMP:20260421T065200Z
DESCRIPTION:Grandiosa feria que celebra este mes de Julio la Ciudad de Nuev
 o Casas Grandes en el estado de Chihuahua. Un evento de gran convocatoria 
 en el norte del país\, que por cuarto año consecutivo es organizada por el
  club rotario de la entidad\, reuniendo a miles de visitantes de toda la r
 egión.Actividades y atracciones: Elección y coronación de la Reina de la E
 xpo Feria Nuevo Casas Grandes 2017. Desfile de comparsas por las principal
 es calles de la ciudad. Exposición comercial\, industrial\, ganadera y art
 esanal. Actividades turísticas. Patio gastronómico donde los visitantes po
 drán disfrutar de los deliciosos platillos de la región.&nbsp\; Actividade
 s culturales. Actividades deportivas. Espectáculo de lucha libre profesion
 al. Función de box. Voladores de papantla. Atracciones infantiles. Bailes 
 populares. Teatro del pueblo con presentación de artistas y espectáculos d
 e talentos locales\, regionales y nacionales. Atracciones juveniles. Juego
 s mecánicos. Espectáculos pirotécnicos. Eventos charros. Cabalgata. Rodeo 
 y mucho más.PROGRAMA GENERAL DE FERIAEventos destacados:Viernes 22 de juli
 oEvento de inauguraciónPresentación de Los Internacionales Cadetes de Lina
 resSábado 23 de julioGran Rodeo de FeriaJueves 27 de julioEspectáculo de L
 ucha Libre ProfesionalViernes 28 de julioSensacional Función de BoxSábado 
 29 de julioSensacional CharreadaPresentación de Juan Manuel (Talento de la
  Voz Kids)Domingo 30 de julioEvento de clausuraSensacional CharreadaPresen
 tación de Banda Conquistadora https://soypuromexicano.mx/eventos/evento/37
 6-expo-feria-nuevo-casas-grandes-2017
DTSTART:20170721T060027Z
DTEND:20170731T045927Z
LOCATION:Nuevo Casas Grandes\, Chihuahua (Nuevo Casas Grandes\, Chihuahua\,
  México)
SUMMARY:Expo Feria Nuevo Casas Grandes 2017
URL:https://soypuromexicano.mx/eventos/evento/376-expo-feria-nuevo-casas-gr
 andes-2017
END:VEVENT
END:VCALENDAR
